BEGIN:VCALENDAR
VERSION:2.0
PRODID:-//Centre culturel du Roeulx - ECPv6.2.2//NONSGML v1.0//EN
CALSCALE:GREGORIAN
METHOD:PUBLISH
X-WR-CALNAME:Centre culturel du Roeulx
X-ORIGINAL-URL:https://www.leroeulxculture.be
X-WR-CALDESC:évènements pour Centre culturel du Roeulx
REFRESH-INTERVAL;VALUE=DURATION:PT1H
X-Robots-Tag:noindex
X-PUBLISHED-TTL:PT1H
BEGIN:VTIMEZONE
TZID:Europe/Paris
BEGIN:DAYLIGHT
TZOFFSETFROM:+0100
TZOFFSETTO:+0200
TZNAME:CEST
DTSTART:20260329T010000
END:DAYLIGHT
BEGIN:STANDARD
TZOFFSETFROM:+0200
TZOFFSETTO:+0100
TZNAME:CET
DTSTART:20261025T010000
END:STANDARD
END:VTIMEZONE
BEGIN:VEVENT
DTSTART;TZID=Europe/Paris:20260521T193000
DTEND;TZID=Europe/Paris:20260521T203000
DTSTAMP:20260422T135146
CREATED:20260303T112442Z
LAST-MODIFIED:20260303T112442Z
UID:21146-1779391800-1779395400@www.leroeulxculture.be
SUMMARY:Conférence | Stress et sommeil\, les plantes de la relaxation
DESCRIPTION:Grâce à l’herboristerie\, découvrez comment apaiser votre corps et votre esprit. \nMais aussi comment agir à l’aide des plantes en période de stress\, d’insomnies et dans les nombreuses situations en déséquilibre face auxquelles nous sommes confrontés dans nos vies. \nUne conférence pour découvrir\, tester et aider notre organisme à se détendre. On a tout à nos pieds ! \n\nJeudi 21 mai à 19h30\nPAF : 5€\nAvec Claudia l’Herboriste \nParlez-en sur
URL:https://www.leroeulxculture.be/event/conference-stress-et-sommeil-les-plantes-de-la-relaxation/
LOCATION:Centre culturel – Salle polyvalente\, Rue d’Houdeng 27\, Le Roeulx\, 7070\, Belgique
CATEGORIES:Conférence
ATTACH;FMTTYPE=image/png:https://www.leroeulxculture.be/wp-content/uploads/2026/03/herboriste.png
ORGANIZER;CN="Centre culturel du Roeulx":MAILTO:info@leroeulxculture.be
END:VEVENT
END:VCALENDAR