BEGIN:VCALENDAR
VERSION:2.0
PRODID:-//Centre culturel du Roeulx - ECPv6.2.2//NONSGML v1.0//EN
CALSCALE:GREGORIAN
METHOD:PUBLISH
X-WR-CALNAME:Centre culturel du Roeulx
X-ORIGINAL-URL:https://www.leroeulxculture.be
X-WR-CALDESC:évènements pour Centre culturel du Roeulx
REFRESH-INTERVAL;VALUE=DURATION:PT1H
X-Robots-Tag:noindex
X-PUBLISHED-TTL:PT1H
BEGIN:VTIMEZONE
TZID:Europe/Paris
BEGIN:DAYLIGHT
TZOFFSETFROM:+0100
TZOFFSETTO:+0200
TZNAME:CEST
DTSTART:20260329T010000
END:DAYLIGHT
BEGIN:STANDARD
TZOFFSETFROM:+0200
TZOFFSETTO:+0100
TZNAME:CET
DTSTART:20261025T010000
END:STANDARD
END:VTIMEZONE
BEGIN:VEVENT
DTSTART;TZID=Europe/Paris:20260706T090000
DTEND;TZID=Europe/Paris:20260717T160000
DTSTAMP:20260421T165644
CREATED:20260304T094133Z
LAST-MODIFIED:20260324T110546Z
UID:21153-1783328400-1784304000@www.leroeulxculture.be
SUMMARY:Stages d'été
DESCRIPTION:Le Centre culturel fera briller les yeux de vos enfants avec ses stages\, en stimulant leur imaginaire et en développant les liens avec leurs potes de stage. Tout cela avec nos animatrices et animateurs 100% motivés pour  leur faire vivre un stage unique\, ludique et créatif. \nLe programme viendra en temps et en heure\, il sera riche et varié\, enrichissant et vivifiant pour stimuler les petits et les grands.\nÀ tout bientôt! \nParlez-en sur
URL:https://www.leroeulxculture.be/event/stages-ete/
LOCATION:Centre culturel du Roeulx\, Rue d'Houdeng\, 27c\, Le Roeulx\, Hainaut\, 7070\, Belgique
CATEGORIES:Stage
ATTACH;FMTTYPE=image/jpeg:https://www.leroeulxculture.be/wp-content/uploads/2026/03/INSERT-STAGES-ETE-2026-copie.jpg
ORGANIZER;CN="Centre culturel du Roeulx":MAILTO:info@leroeulxculture.be
END:VEVENT
END:VCALENDAR